BEGIN:VCALENDAR
VERSION:2.0
PRODID:-//wp-events-plugin.com//7.2.3.1//EN
BEGIN:VEVENT
UID:355@staging-4.aarhusbridgeklub.dk
DTSTART:20230907T173000Z
DTEND:20230907T214500Z
DTSTAMP:20230523T124306Z
URL:https://staging-4.aarhusbridgeklub.dk/events/saesontilmelding-torsdags
 klubben-2/
SUMMARY:Sæsontilmelding Torsdagsklubben
DESCRIPTION:Vel mødt!
END:VEVENT
BEGIN:VEVENT
UID:354@staging-4.aarhusbridgeklub.dk
DTSTART:20230906T180000Z
DTEND:20230906T214500Z
DTSTAMP:20230523T123607Z
URL:https://staging-4.aarhusbridgeklub.dk/events/saesontilmelding-onsdag-a
 ften-2/
SUMMARY:Sæsontilmelding Onsdag aften
DESCRIPTION:Vel mødt!
END:VEVENT
BEGIN:VEVENT
UID:353@staging-4.aarhusbridgeklub.dk
DTSTART:20230906T120000Z
DTEND:20230906T160000Z
DTSTAMP:20230523T123358Z
URL:https://staging-4.aarhusbridgeklub.dk/events/saesontilmelding-onsdag-e
 ftermiddag-2/
SUMMARY:Sæsontilmelding Onsdag eftermiddag
DESCRIPTION:Vel mødt!
END:VEVENT
BEGIN:VEVENT
UID:352@staging-4.aarhusbridgeklub.dk
DTSTART:20230905T083000Z
DTEND:20230905T121500Z
DTSTAMP:20230523T123117Z
URL:https://staging-4.aarhusbridgeklub.dk/events/saesontilmelding-tirsdag-
 formiddag-2/
SUMMARY:Sæsontilmelding Tirsdag formiddag
DESCRIPTION:Vel mødt!
END:VEVENT
BEGIN:VEVENT
UID:351@staging-4.aarhusbridgeklub.dk
DTSTART:20230904T173000Z
DTEND:20230904T213000Z
DTSTAMP:20230523T122824Z
URL:https://staging-4.aarhusbridgeklub.dk/events/saesontilmelding-mandag-a
 ften-2/
SUMMARY:Sæsontilmelding Mandag aften
DESCRIPTION:Vel mødt!\n\nBemærk vi starter 18:30
END:VEVENT
END:VCALENDAR